BEGIN:VCALENDAR
VERSION:2.0
PRODID:-//PoaCult - ECPv6.15.20//NONSGML v1.0//EN
CALSCALE:GREGORIAN
METHOD:PUBLISH
X-ORIGINAL-URL:https://poacult.com.br
X-WR-CALDESC:Eventos para PoaCult
REFRESH-INTERVAL;VALUE=DURATION:PT1H
X-Robots-Tag:noindex
X-PUBLISHED-TTL:PT1H
BEGIN:VTIMEZONE
TZID:America/Sao_Paulo
BEGIN:STANDARD
TZOFFSETFROM:-0300
TZOFFSETTO:-0300
TZNAME:-03
DTSTART:19690101T000000
END:STANDARD
END:VTIMEZONE
BEGIN:VEVENT
DTSTART;TZID=America/Sao_Paulo:20260424T214152
DTEND;TZID=America/Sao_Paulo:20260424T214152
DTSTAMP:20260424T214152
CREATED:20250630T235824Z
LAST-MODIFIED:20250630T235824Z
UID:646-0-0@poacult.com.br
SUMMARY:ATOM Pink Floyd
DESCRIPTION:19/07/2025 00:00
URL:https://poacult.com.br/evento/atom-pink-floyd-2/
LOCATION:RS
END:VEVENT
BEGIN:VEVENT
DTSTART;TZID=America/Sao_Paulo:20260424T214152
DTEND;TZID=America/Sao_Paulo:20260424T214152
DTSTAMP:20260424T214152
CREATED:20250630T235824Z
LAST-MODIFIED:20250630T235824Z
UID:647-0-0@poacult.com.br
SUMMARY:Angra
DESCRIPTION:20/07/2025 00:00
URL:https://poacult.com.br/evento/angra-2/
LOCATION:RS
END:VEVENT
BEGIN:VEVENT
DTSTART;TZID=America/Sao_Paulo:20260424T214152
DTEND;TZID=America/Sao_Paulo:20260424T214152
DTSTAMP:20260424T214152
CREATED:20250630T235824Z
LAST-MODIFIED:20250630T235824Z
UID:648-0-0@poacult.com.br
SUMMARY:Marina Lima
DESCRIPTION:26/07/2025 00:00
URL:https://poacult.com.br/evento/marina-lima-2/
LOCATION:RS
END:VEVENT
END:VCALENDAR