BEGIN:VCALENDAR
VERSION:2.0
PRODID:-//PoaCult - ECPv6.15.20//NONSGML v1.0//EN
CALSCALE:GREGORIAN
METHOD:PUBLISH
X-WR-CALNAME:PoaCult
X-ORIGINAL-URL:https://poacult.com.br
X-WR-CALDESC:Eventos para PoaCult
REFRESH-INTERVAL;VALUE=DURATION:PT1H
X-Robots-Tag:noindex
X-PUBLISHED-TTL:PT1H
BEGIN:VTIMEZONE
TZID:America/Sao_Paulo
BEGIN:STANDARD
TZOFFSETFROM:-0300
TZOFFSETTO:-0300
TZNAME:-03
DTSTART:19690101T000000
END:STANDARD
END:VTIMEZONE
BEGIN:VEVENT
DTSTART;TZID=America/Sao_Paulo:20260424T201036
DTEND;TZID=America/Sao_Paulo:20260424T201036
DTSTAMP:20260424T201036
CREATED:20250630T235844Z
LAST-MODIFIED:20250630T235844Z
UID:656-0-0@poacult.com.br
SUMMARY:Epica e Fleshgod Apocalypse
DESCRIPTION:06/09/2025 00:00
URL:https://poacult.com.br/evento/epica-e-fleshgod-apocalypse-3/
LOCATION:RS
END:VEVENT
BEGIN:VEVENT
DTSTART;TZID=America/Sao_Paulo:20260424T201036
DTEND;TZID=America/Sao_Paulo:20260424T201036
DTSTAMP:20260424T201036
CREATED:20250630T235844Z
LAST-MODIFIED:20250630T235844Z
UID:657-0-0@poacult.com.br
SUMMARY:Gilberto Gil: Tempo Rei - Última Turnê
DESCRIPTION:06/09/2025 00:00
URL:https://poacult.com.br/evento/gilberto-gil-tempo-rei-ultima-turne-2/
LOCATION:RS
END:VEVENT
BEGIN:VEVENT
DTSTART;TZID=America/Sao_Paulo:20260424T201036
DTEND;TZID=America/Sao_Paulo:20260424T201036
DTSTAMP:20260424T201036
CREATED:20250630T235844Z
LAST-MODIFIED:20250630T235844Z
UID:658-0-0@poacult.com.br
SUMMARY:ANAVITÓRIA
DESCRIPTION:26/09/2025 00:00
URL:https://poacult.com.br/evento/anavitoria-2/
LOCATION:RS
END:VEVENT
BEGIN:VEVENT
DTSTART;TZID=America/Sao_Paulo:20260424T201036
DTEND;TZID=America/Sao_Paulo:20260424T201036
DTSTAMP:20260424T201036
CREATED:20250630T235843Z
LAST-MODIFIED:20250630T235843Z
UID:655-0-0@poacult.com.br
SUMMARY:Epica e Fleshgod Apocalypse
DESCRIPTION:06/09/2025 00:00
URL:https://poacult.com.br/evento/epica-e-fleshgod-apocalypse-2/
LOCATION:RS
END:VEVENT
BEGIN:VEVENT
DTSTART;TZID=America/Sao_Paulo:20260424T201036
DTEND;TZID=America/Sao_Paulo:20260424T201036
DTSTAMP:20260424T201036
CREATED:20250630T235827Z
LAST-MODIFIED:20250630T235827Z
UID:651-0-0@poacult.com.br
SUMMARY:Morgan Jay
DESCRIPTION:21/08/2025 00:00
URL:https://poacult.com.br/evento/morgan-jay-2/
LOCATION:RS
END:VEVENT
BEGIN:VEVENT
DTSTART;TZID=America/Sao_Paulo:20260424T201036
DTEND;TZID=America/Sao_Paulo:20260424T201036
DTSTAMP:20260424T201036
CREATED:20250630T235827Z
LAST-MODIFIED:20250630T235827Z
UID:652-0-0@poacult.com.br
SUMMARY:Alcione
DESCRIPTION:23/08/2025 00:00
URL:https://poacult.com.br/evento/alcione-2/
LOCATION:RS
END:VEVENT
BEGIN:VEVENT
DTSTART;TZID=America/Sao_Paulo:20260424T201036
DTEND;TZID=America/Sao_Paulo:20260424T201036
DTSTAMP:20260424T201036
CREATED:20250630T235827Z
LAST-MODIFIED:20250630T235827Z
UID:653-0-0@poacult.com.br
SUMMARY:Leoni
DESCRIPTION:23/08/2025 00:00
URL:https://poacult.com.br/evento/leoni-2/
LOCATION:RS
END:VEVENT
BEGIN:VEVENT
DTSTART;TZID=America/Sao_Paulo:20260424T201036
DTEND;TZID=America/Sao_Paulo:20260424T201036
DTSTAMP:20260424T201036
CREATED:20250630T235827Z
LAST-MODIFIED:20250630T235827Z
UID:654-0-0@poacult.com.br
SUMMARY:Roupa Nova
DESCRIPTION:30/08/2025 00:00
URL:https://poacult.com.br/evento/roupa-nova-2/
LOCATION:RS
END:VEVENT
BEGIN:VEVENT
DTSTART;TZID=America/Sao_Paulo:20260424T201036
DTEND;TZID=America/Sao_Paulo:20260424T201036
DTSTAMP:20260424T201036
CREATED:20250630T235826Z
LAST-MODIFIED:20250630T235826Z
UID:650-0-0@poacult.com.br
SUMMARY:Oswaldo Montenegro - O Melhor da Vida Ainda Vai Acontecer
DESCRIPTION:09/08/2025 00:00
URL:https://poacult.com.br/evento/oswaldo-montenegro-o-melhor-da-vida-ainda-vai-acontecer-2/
LOCATION:RS
END:VEVENT
BEGIN:VEVENT
DTSTART;TZID=America/Sao_Paulo:20260424T201036
DTEND;TZID=America/Sao_Paulo:20260424T201036
DTSTAMP:20260424T201036
CREATED:20250630T235824Z
LAST-MODIFIED:20250630T235824Z
UID:649-0-0@poacult.com.br
SUMMARY:Raça Negra
DESCRIPTION:08/08/2025 00:00
URL:https://poacult.com.br/evento/raca-negra-2/
LOCATION:RS
END:VEVENT
BEGIN:VEVENT
DTSTART;TZID=America/Sao_Paulo:20260424T201036
DTEND;TZID=America/Sao_Paulo:20260424T201036
DTSTAMP:20260424T201036
CREATED:20250630T235824Z
LAST-MODIFIED:20250630T235824Z
UID:646-0-0@poacult.com.br
SUMMARY:ATOM Pink Floyd
DESCRIPTION:19/07/2025 00:00
URL:https://poacult.com.br/evento/atom-pink-floyd-2/
LOCATION:RS
END:VEVENT
BEGIN:VEVENT
DTSTART;TZID=America/Sao_Paulo:20260424T201036
DTEND;TZID=America/Sao_Paulo:20260424T201036
DTSTAMP:20260424T201036
CREATED:20250630T235824Z
LAST-MODIFIED:20250630T235824Z
UID:647-0-0@poacult.com.br
SUMMARY:Angra
DESCRIPTION:20/07/2025 00:00
URL:https://poacult.com.br/evento/angra-2/
LOCATION:RS
END:VEVENT
BEGIN:VEVENT
DTSTART;TZID=America/Sao_Paulo:20260424T201036
DTEND;TZID=America/Sao_Paulo:20260424T201036
DTSTAMP:20260424T201036
CREATED:20250630T235824Z
LAST-MODIFIED:20250630T235824Z
UID:648-0-0@poacult.com.br
SUMMARY:Marina Lima
DESCRIPTION:26/07/2025 00:00
URL:https://poacult.com.br/evento/marina-lima-2/
LOCATION:RS
END:VEVENT
END:VCALENDAR