BEGIN:VCALENDAR
VERSION:2.0
PRODID:-//PoaCult - ECPv6.15.20//NONSGML v1.0//EN
CALSCALE:GREGORIAN
METHOD:PUBLISH
X-ORIGINAL-URL:https://poacult.com.br
X-WR-CALDESC:Eventos para PoaCult
REFRESH-INTERVAL;VALUE=DURATION:PT1H
X-Robots-Tag:noindex
X-PUBLISHED-TTL:PT1H
BEGIN:VTIMEZONE
TZID:America/Sao_Paulo
BEGIN:STANDARD
TZOFFSETFROM:-0300
TZOFFSETTO:-0300
TZNAME:-03
DTSTART:19690101T000000
END:STANDARD
END:VTIMEZONE
BEGIN:VEVENT
DTSTART;TZID=America/Sao_Paulo:20260424T184417
DTEND;TZID=America/Sao_Paulo:20260424T184417
DTSTAMP:20260424T184417
CREATED:20250630T235928Z
LAST-MODIFIED:20250630T235928Z
UID:669-0-0@poacult.com.br
SUMMARY:Gabriel o Pensador
DESCRIPTION:29/11/2025 00:00
URL:https://poacult.com.br/evento/gabriel-o-pensador-2/
LOCATION:RS
END:VEVENT
BEGIN:VEVENT
DTSTART;TZID=America/Sao_Paulo:20260424T184417
DTEND;TZID=America/Sao_Paulo:20260424T184417
DTSTAMP:20260424T184417
CREATED:20250630T235914Z
LAST-MODIFIED:20250630T235914Z
UID:666-0-0@poacult.com.br
SUMMARY:Glenn Hughes
DESCRIPTION:11/11/2025 00:00
URL:https://poacult.com.br/evento/glenn-hughes-2/
LOCATION:RS
END:VEVENT
BEGIN:VEVENT
DTSTART;TZID=America/Sao_Paulo:20260424T184417
DTEND;TZID=America/Sao_Paulo:20260424T184417
DTSTAMP:20260424T184417
CREATED:20250630T235914Z
LAST-MODIFIED:20250630T235914Z
UID:667-0-0@poacult.com.br
SUMMARY:Thiaguinho - Tardezinha 10 anos
DESCRIPTION:15/11/2025 00:00
URL:https://poacult.com.br/evento/thiaguinho-tardezinha-10-anos-2/
LOCATION:RS
END:VEVENT
BEGIN:VEVENT
DTSTART;TZID=America/Sao_Paulo:20260424T184417
DTEND;TZID=America/Sao_Paulo:20260424T184417
DTSTAMP:20260424T184417
CREATED:20250630T235913Z
LAST-MODIFIED:20250630T235913Z
UID:665-0-0@poacult.com.br
SUMMARY:Ira! Acústico 20 Anos
DESCRIPTION:08/11/2025 00:00
URL:https://poacult.com.br/evento/ira-acustico-20-anos-2/
LOCATION:RS
END:VEVENT
BEGIN:VEVENT
DTSTART;TZID=America/Sao_Paulo:20260424T184417
DTEND;TZID=America/Sao_Paulo:20260424T184417
DTSTAMP:20260424T184417
CREATED:20250630T235913Z
LAST-MODIFIED:20250630T235913Z
UID:664-0-0@poacult.com.br
SUMMARY:Masterplan
DESCRIPTION:02/11/2025 00:00
URL:https://poacult.com.br/evento/masterplan-2/
LOCATION:RS
END:VEVENT
BEGIN:VEVENT
DTSTART;TZID=America/Sao_Paulo:20260424T184417
DTEND;TZID=America/Sao_Paulo:20260424T184417
DTSTAMP:20260424T184417
CREATED:20250630T235859Z
LAST-MODIFIED:20250630T235859Z
UID:661-0-0@poacult.com.br
SUMMARY:Tributo ao Rei do Pop
DESCRIPTION:25/10/2025 00:00
URL:https://poacult.com.br/evento/tributo-ao-rei-do-pop-2/
LOCATION:RS
END:VEVENT
BEGIN:VEVENT
DTSTART;TZID=America/Sao_Paulo:20260424T184417
DTEND;TZID=America/Sao_Paulo:20260424T184417
DTSTAMP:20260424T184417
CREATED:20250630T235859Z
LAST-MODIFIED:20250630T235859Z
UID:662-0-0@poacult.com.br
SUMMARY:Festival Turá
DESCRIPTION:25/10/2025 00:00
URL:https://poacult.com.br/evento/festival-tura-2/
LOCATION:RS
END:VEVENT
BEGIN:VEVENT
DTSTART;TZID=America/Sao_Paulo:20260424T184417
DTEND;TZID=America/Sao_Paulo:20260424T184417
DTSTAMP:20260424T184417
CREATED:20250630T235859Z
LAST-MODIFIED:20250630T235859Z
UID:663-0-0@poacult.com.br
SUMMARY:Golden Boys
DESCRIPTION:31/10/2025 00:00
URL:https://poacult.com.br/evento/golden-boys-2/
LOCATION:RS
END:VEVENT
BEGIN:VEVENT
DTSTART;TZID=America/Sao_Paulo:20260424T184417
DTEND;TZID=America/Sao_Paulo:20260424T184417
DTSTAMP:20260424T184417
CREATED:20250630T235858Z
LAST-MODIFIED:20250630T235858Z
UID:660-0-0@poacult.com.br
SUMMARY:O Jardim do Inimigo
DESCRIPTION:18/10/2025 00:00
URL:https://poacult.com.br/evento/o-jardim-do-inimigo-2/
LOCATION:RS
END:VEVENT
BEGIN:VEVENT
DTSTART;TZID=America/Sao_Paulo:20260424T184417
DTEND;TZID=America/Sao_Paulo:20260424T184417
DTSTAMP:20260424T184417
CREATED:20250630T235858Z
LAST-MODIFIED:20250630T235858Z
UID:659-0-0@poacult.com.br
SUMMARY:Sorriso Maroto As Antigas
DESCRIPTION:04/10/2025 00:00
URL:https://poacult.com.br/evento/sorriso-maroto-as-antigas-2/
LOCATION:RS
END:VEVENT
BEGIN:VEVENT
DTSTART;TZID=America/Sao_Paulo:20260424T184417
DTEND;TZID=America/Sao_Paulo:20260424T184417
DTSTAMP:20260424T184417
CREATED:20250630T235844Z
LAST-MODIFIED:20250630T235844Z
UID:656-0-0@poacult.com.br
SUMMARY:Epica e Fleshgod Apocalypse
DESCRIPTION:06/09/2025 00:00
URL:https://poacult.com.br/evento/epica-e-fleshgod-apocalypse-3/
LOCATION:RS
END:VEVENT
BEGIN:VEVENT
DTSTART;TZID=America/Sao_Paulo:20260424T184417
DTEND;TZID=America/Sao_Paulo:20260424T184417
DTSTAMP:20260424T184417
CREATED:20250630T235844Z
LAST-MODIFIED:20250630T235844Z
UID:657-0-0@poacult.com.br
SUMMARY:Gilberto Gil: Tempo Rei - Última Turnê
DESCRIPTION:06/09/2025 00:00
URL:https://poacult.com.br/evento/gilberto-gil-tempo-rei-ultima-turne-2/
LOCATION:RS
END:VEVENT
BEGIN:VEVENT
DTSTART;TZID=America/Sao_Paulo:20260424T184417
DTEND;TZID=America/Sao_Paulo:20260424T184417
DTSTAMP:20260424T184417
CREATED:20250630T235844Z
LAST-MODIFIED:20250630T235844Z
UID:658-0-0@poacult.com.br
SUMMARY:ANAVITÓRIA
DESCRIPTION:26/09/2025 00:00
URL:https://poacult.com.br/evento/anavitoria-2/
LOCATION:RS
END:VEVENT
BEGIN:VEVENT
DTSTART;TZID=America/Sao_Paulo:20260424T184417
DTEND;TZID=America/Sao_Paulo:20260424T184417
DTSTAMP:20260424T184417
CREATED:20250630T235843Z
LAST-MODIFIED:20250630T235843Z
UID:655-0-0@poacult.com.br
SUMMARY:Epica e Fleshgod Apocalypse
DESCRIPTION:06/09/2025 00:00
URL:https://poacult.com.br/evento/epica-e-fleshgod-apocalypse-2/
LOCATION:RS
END:VEVENT
BEGIN:VEVENT
DTSTART;TZID=America/Sao_Paulo:20260424T184417
DTEND;TZID=America/Sao_Paulo:20260424T184417
DTSTAMP:20260424T184417
CREATED:20250630T235827Z
LAST-MODIFIED:20250630T235827Z
UID:651-0-0@poacult.com.br
SUMMARY:Morgan Jay
DESCRIPTION:21/08/2025 00:00
URL:https://poacult.com.br/evento/morgan-jay-2/
LOCATION:RS
END:VEVENT
BEGIN:VEVENT
DTSTART;TZID=America/Sao_Paulo:20260424T184417
DTEND;TZID=America/Sao_Paulo:20260424T184417
DTSTAMP:20260424T184417
CREATED:20250630T235827Z
LAST-MODIFIED:20250630T235827Z
UID:652-0-0@poacult.com.br
SUMMARY:Alcione
DESCRIPTION:23/08/2025 00:00
URL:https://poacult.com.br/evento/alcione-2/
LOCATION:RS
END:VEVENT
BEGIN:VEVENT
DTSTART;TZID=America/Sao_Paulo:20260424T184417
DTEND;TZID=America/Sao_Paulo:20260424T184417
DTSTAMP:20260424T184417
CREATED:20250630T235827Z
LAST-MODIFIED:20250630T235827Z
UID:653-0-0@poacult.com.br
SUMMARY:Leoni
DESCRIPTION:23/08/2025 00:00
URL:https://poacult.com.br/evento/leoni-2/
LOCATION:RS
END:VEVENT
BEGIN:VEVENT
DTSTART;TZID=America/Sao_Paulo:20260424T184417
DTEND;TZID=America/Sao_Paulo:20260424T184417
DTSTAMP:20260424T184417
CREATED:20250630T235827Z
LAST-MODIFIED:20250630T235827Z
UID:654-0-0@poacult.com.br
SUMMARY:Roupa Nova
DESCRIPTION:30/08/2025 00:00
URL:https://poacult.com.br/evento/roupa-nova-2/
LOCATION:RS
END:VEVENT
BEGIN:VEVENT
DTSTART;TZID=America/Sao_Paulo:20260424T184417
DTEND;TZID=America/Sao_Paulo:20260424T184417
DTSTAMP:20260424T184417
CREATED:20250630T235826Z
LAST-MODIFIED:20250630T235826Z
UID:650-0-0@poacult.com.br
SUMMARY:Oswaldo Montenegro - O Melhor da Vida Ainda Vai Acontecer
DESCRIPTION:09/08/2025 00:00
URL:https://poacult.com.br/evento/oswaldo-montenegro-o-melhor-da-vida-ainda-vai-acontecer-2/
LOCATION:RS
END:VEVENT
BEGIN:VEVENT
DTSTART;TZID=America/Sao_Paulo:20260424T184417
DTEND;TZID=America/Sao_Paulo:20260424T184417
DTSTAMP:20260424T184417
CREATED:20250630T235824Z
LAST-MODIFIED:20250630T235824Z
UID:649-0-0@poacult.com.br
SUMMARY:Raça Negra
DESCRIPTION:08/08/2025 00:00
URL:https://poacult.com.br/evento/raca-negra-2/
LOCATION:RS
END:VEVENT
BEGIN:VEVENT
DTSTART;TZID=America/Sao_Paulo:20260424T184417
DTEND;TZID=America/Sao_Paulo:20260424T184417
DTSTAMP:20260424T184417
CREATED:20250630T235824Z
LAST-MODIFIED:20250630T235824Z
UID:646-0-0@poacult.com.br
SUMMARY:ATOM Pink Floyd
DESCRIPTION:19/07/2025 00:00
URL:https://poacult.com.br/evento/atom-pink-floyd-2/
LOCATION:RS
END:VEVENT
BEGIN:VEVENT
DTSTART;TZID=America/Sao_Paulo:20260424T184417
DTEND;TZID=America/Sao_Paulo:20260424T184417
DTSTAMP:20260424T184417
CREATED:20250630T235824Z
LAST-MODIFIED:20250630T235824Z
UID:647-0-0@poacult.com.br
SUMMARY:Angra
DESCRIPTION:20/07/2025 00:00
URL:https://poacult.com.br/evento/angra-2/
LOCATION:RS
END:VEVENT
BEGIN:VEVENT
DTSTART;TZID=America/Sao_Paulo:20260424T184417
DTEND;TZID=America/Sao_Paulo:20260424T184417
DTSTAMP:20260424T184417
CREATED:20250630T235824Z
LAST-MODIFIED:20250630T235824Z
UID:648-0-0@poacult.com.br
SUMMARY:Marina Lima
DESCRIPTION:26/07/2025 00:00
URL:https://poacult.com.br/evento/marina-lima-2/
LOCATION:RS
END:VEVENT
END:VCALENDAR